BEGIN:VCALENDAR
VERSION:2.0
PRODID:Imitheme.com 
BEGIN:VEVENT
UID:20260423T200903715674311
DTSTAMP;TZID=UTC:2026-04-23 20:09:03
DTSTART;TZID=America/Los_Angeles:20260423T200903
DTEND;TZID=America/Los_Angeles:20260423T200903
SUMMARY:Jungle Chill
LOCATION:
DESCRIPTION:A 5km walk both ways through a rain forest, crossing streams and hanging out at a waterfall followed by a local lunch home by a villager served in the forest. Location – North East Goa Distance – approximately 5km Duration – 1/2 day trek Intensity – Easy This experience will be modified after the monsoons. It is also dependent on the weather. In case of very heavy rains and the rise in water levels it may be modified or rescheduled.
URL:https://adventurebreaks.in/eventer/jungle-chill/
END:VEVENT
END:VCALENDAR
